BEGIN:VCALENDAR
VERSION:2.0
PRODID:-//wp-events-plugin.com//7.2.3.1//EN
BEGIN:VEVENT
UID:99@cmicsinaloasur.org
DTSTART:20240523T170000Z
DTEND:20240523T180000Z
DTSTAMP:20240517T192100Z
URL:https://cmicsinaloasur.org/events/webinar-mochila-de-emergencia-plan-f
 amiliar-de-proteccion-civil/
SUMMARY:Webinar: Mochila de Emergencia\, Plan Familiar de Protección Civil
DESCRIPTION:
ATTACH;FMTTYPE=image/jpeg:https://cmicsinaloasur.org/wp-content/uploads/20
 24/05/Imagen-de-WhatsApp-2024-05-17-a-las-10.29.50_188158e1.jpg
CATEGORIES:Capacitación
LOCATION:\, \, 
X-APPLE-STRUCTURED-LOCATION;VALUE=URI;X-ADDRESS=\, ;X-APPLE-RADIUS=100;X-TI
 TLE=:geo:0,0
END:VEVENT
END:VCALENDAR