BEGIN:VCALENDAR
VERSION:2.0
PRODID:-//wp-events-plugin.com//7.2.3.1//EN
BEGIN:VEVENT
UID:118@cmicsinaloasur.org
DTSTART:20240709T160000Z
DTEND:20240709T160000Z
DTSTAMP:20240716T232244Z
URL:https://cmicsinaloasur.org/events/webinar-last-plannet-system/
SUMMARY:WEBINAR: LAST PLANNET SYSTEM
DESCRIPTION:
ATTACH;FMTTYPE=image/jpeg:https://cmicsinaloasur.org/wp-content/uploads/20
 24/07/WEBINAR-LAST-PLANNET-SYSTEM.jpg
CATEGORIES:Capacitación,En Linea
END:VEVENT
END:VCALENDAR