BEGIN:VCALENDAR
VERSION:2.0
PRODID:-//wp-events-plugin.com//7.2.3.1//EN
BEGIN:VEVENT
UID:321@cmicsinaloasur.org
DTSTART:20250807T170000Z
DTEND:20250807T180000Z
DTSTAMP:20250805T181043Z
URL:https://cmicsinaloasur.org/events/webinar-ia/
SUMMARY:WEBINAR IA
DESCRIPTION:
ATTACH;FMTTYPE=image/jpeg:https://cmicsinaloasur.org/wp-content/uploads/20
 25/08/webinar.jpeg
CATEGORIES:Capacitación,En Linea
END:VEVENT
END:VCALENDAR