BEGIN:VCALENDAR
VERSION:2.0
PRODID:-//wp-events-plugin.com//7.2.3.1//EN
BEGIN:VEVENT
UID:290@cmicsinaloasur.org
DTSTART:20250520T170000Z
DTEND:20250520T180000Z
DTSTAMP:20250520T190521Z
URL:https://cmicsinaloasur.org/events/webinar-el-futuro-es-tu-siguiente-ob
 ra/
SUMMARY:WEBINAR EL FUTURO ES TU SIGUIENTE OBRA
DESCRIPTION:
ATTACH;FMTTYPE=image/jpeg:https://cmicsinaloasur.org/wp-content/uploads/20
 25/05/WEBINAR-EL-FUTURO-ES-TU-SIGUIENTE-OBRA.jpeg
CATEGORIES:Capacitación,En Linea
END:VEVENT
END:VCALENDAR