BEGIN:VCALENDAR
VERSION:2.0
PRODID:-//wp-events-plugin.com//7.2.3.1//EN
BEGIN:VEVENT
UID:275@cmicsinaloasur.org
DTSTART:20250517T080000Z
DTEND:20250517T120000Z
DTSTAMP:20250501T235522Z
URL:https://cmicsinaloasur.org/events/valuacion-de-inmuebles/
SUMMARY:VALUACION DE INMUEBLES
DESCRIPTION:
ATTACH;FMTTYPE=image/jpeg:https://cmicsinaloasur.org/wp-content/uploads/20
 25/05/VALUACION-DE-INMUEBLES.jpeg
CATEGORIES:Capacitación,En Linea
END:VEVENT
END:VCALENDAR