BEGIN:VCALENDAR
VERSION:2.0
PRODID:-//wp-events-plugin.com//7.2.3.1//EN
BEGIN:VEVENT
UID:23@cmicsinaloasur.org
DTSTART:20230419T170000Z
DTEND:20230419T190000Z
DTSTAMP:20230419T232123Z
URL:https://cmicsinaloasur.org/events/trabajos-en-alturas/
SUMMARY:Trabajos en Alturas
DESCRIPTION:
ATTACH;FMTTYPE=image/jpeg:https://cmicsinaloasur.org/wp-content/uploads/20
 23/04/Trabajos-en-Alturas.jpg
CATEGORIES:Capacitación
END:VEVENT
END:VCALENDAR