BEGIN:VCALENDAR
VERSION:2.0
PRODID:-//wp-events-plugin.com//7.2.3.1//EN
BEGIN:VEVENT
UID:280@cmicsinaloasur.org
DTSTART:20250508T170000Z
DTEND:20250508T180000Z
DTSTAMP:20250502T000338Z
URL:https://cmicsinaloasur.org/events/temporada-de-huracanaes-2025/
SUMMARY:TEMPORADA DE HURACANAES 2025
DESCRIPTION:&#x1f6a8\;En colaboración con el @ICIC Nacional\, #CMICtecuida
  y orienta para que puedas proteger a tu familia\, tu empresa y tu comunid
 ad.\n\n&#x1f310\;Conéctate al primer webinar: Protocolo de prevención\n\
 n#TemporadaDeHuracanes2025\n\nRegístrate: https://forms.gle/zyKX5Pei36Y6Y
 uZr5
ATTACH;FMTTYPE=image/jpeg:https://cmicsinaloasur.org/wp-content/uploads/20
 25/05/TEMPORADA-DE-HURACANAES-2025.jpeg
CATEGORIES:Capacitación,En Linea
LOCATION:\, \, 
X-APPLE-STRUCTURED-LOCATION;VALUE=URI;X-ADDRESS=\, ;X-APPLE-RADIUS=100;X-TI
 TLE=:geo:0,0
END:VEVENT
END:VCALENDAR