BEGIN:VCALENDAR
VERSION:2.0
PRODID:-//wp-events-plugin.com//7.2.3.1//EN
BEGIN:VEVENT
UID:157@cmicsinaloasur.org
DTSTART:20240919T090000Z
DTEND:20240919T120000Z
DTSTAMP:20240911T233153Z
URL:https://cmicsinaloasur.org/events/siroc-3/
SUMMARY:Siroc
DESCRIPTION:
ATTACH;FMTTYPE=image/jpeg:https://cmicsinaloasur.org/wp-content/uploads/20
 24/09/Siroc.jpg
CATEGORIES:Capacitación,En Linea
END:VEVENT
END:VCALENDAR