BEGIN:VCALENDAR
VERSION:2.0
PRODID:-//wp-events-plugin.com//7.2.3.1//EN
BEGIN:VEVENT
UID:98@cmicsinaloasur.org
DTSTART:20240521T180000Z
DTEND:20240521T180000Z
DTSTAMP:20240508T234658Z
URL:https://cmicsinaloasur.org/events/riesgos-fiscales-y-su-prevencion-ges
 tion-del-compliance-administrativo/
SUMMARY:Riesgos Fiscales y su Prevención | Gestión del Compliance Adminis
 trativo
DESCRIPTION:
ATTACH;FMTTYPE=image/jpeg:https://cmicsinaloasur.org/wp-content/uploads/20
 24/05/21mayo.jpeg
CATEGORIES:Capacitación
LOCATION:CMIC SINALOA SUR\, Blvrd del Marlin #482\, Sábalo Country\, Mazat
 lán \, Sinaloa\, 82199\, México
X-APPLE-STRUCTURED-LOCATION;VALUE=URI;X-ADDRESS=Blvrd del Marlin #482\, Sá
 balo Country\, Mazatlán \, Sinaloa\, 82199\, México;X-APPLE-RADIUS=100;X
 -TITLE=CMIC SINALOA SUR:geo:0,0
END:VEVENT
END:VCALENDAR