BEGIN:VCALENDAR
VERSION:2.0
PRODID:-//wp-events-plugin.com//7.2.3.1//EN
BEGIN:VEVENT
UID:29@cmicsinaloasur.org
DTSTART:20230515T140000Z
DTEND:20230515T190000Z
DTSTAMP:20230424T222907Z
URL:https://cmicsinaloasur.org/events/revit-mep-electrical/
SUMMARY:Revit Mep Electrical
DESCRIPTION:
ATTACH;FMTTYPE=image/jpeg:https://cmicsinaloasur.org/wp-content/uploads/20
 23/04/Revit-Mep-Electrical.jpg
CATEGORIES:Capacitación
END:VEVENT
END:VCALENDAR