BEGIN:VCALENDAR
VERSION:2.0
PRODID:-//wp-events-plugin.com//7.2.3.1//EN
BEGIN:VEVENT
UID:241@cmicsinaloasur.org
DTSTART:20250421T140000Z
DTEND:20250421T190000Z
DTSTAMP:20250320T232543Z
URL:https://cmicsinaloasur.org/events/revit-architecture-nivel-ii-2/
SUMMARY:REVIT ARCHITECTURE NIVEL II
DESCRIPTION:
ATTACH;FMTTYPE=image/jpeg:https://cmicsinaloasur.org/wp-content/uploads/20
 25/03/REVIT-ARCHITECTURE-NIVEL-II.jpeg
CATEGORIES:Capacitación,En Linea
END:VEVENT
END:VCALENDAR