BEGIN:VCALENDAR
VERSION:2.0
PRODID:-//wp-events-plugin.com//7.2.3.1//EN
BEGIN:VEVENT
UID:240@cmicsinaloasur.org
DTSTART:20250407T140000Z
DTEND:20250407T190000Z
DTSTAMP:20250320T232433Z
URL:https://cmicsinaloasur.org/events/revit-architecture-nivel-i-4/
SUMMARY:REVIT ARCHITECTURE NIVEL I
DESCRIPTION:
ATTACH;FMTTYPE=image/jpeg:https://cmicsinaloasur.org/wp-content/uploads/20
 25/03/REVIT-ARCHITECTURE-NIVEL-I.jpeg
CATEGORIES:Capacitación,En Linea
END:VEVENT
END:VCALENDAR