BEGIN:VCALENDAR
VERSION:2.0
PRODID:-//wp-events-plugin.com//7.2.3.1//EN
BEGIN:VEVENT
UID:194@cmicsinaloasur.org
DTSTART:20250113T140000Z
DTEND:20250113T190000Z
DTSTAMP:20241218T172814Z
URL:https://cmicsinaloasur.org/events/revit-architecture-nivel-i-2/
SUMMARY:REVIT Architecture Nivel I
DESCRIPTION:
ATTACH;FMTTYPE=image/jpeg:https://cmicsinaloasur.org/wp-content/uploads/20
 24/12/REVIT.jpg
CATEGORIES:Capacitación,En Linea
END:VEVENT
END:VCALENDAR