BEGIN:VCALENDAR
VERSION:2.0
PRODID:-//wp-events-plugin.com//7.2.3.1//EN
BEGIN:VEVENT
UID:184@cmicsinaloasur.org
DTSTART:20241028T080000Z
DTEND:20241028T130000Z
DTSTAMP:20241023T223539Z
URL:https://cmicsinaloasur.org/events/revit-architecture-nivel-1/
SUMMARY:Revit Architecture Nivel 1
DESCRIPTION:
ATTACH;FMTTYPE=image/jpeg:https://cmicsinaloasur.org/wp-content/uploads/20
 24/10/Revit-Architecture-Nivel-1.jpg
CATEGORIES:Capacitación,En Linea
END:VEVENT
END:VCALENDAR