BEGIN:VCALENDAR
VERSION:2.0
PRODID:-//wp-events-plugin.com//7.2.3.1//EN
BEGIN:VEVENT
UID:141@cmicsinaloasur.org
DTSTART:20240909T140000Z
DTEND:20240909T190000Z
DTSTAMP:20240828T172716Z
URL:https://cmicsinaloasur.org/events/revit-architectural-i-3/
SUMMARY:REVIT Architectural I
DESCRIPTION:
ATTACH;FMTTYPE=image/jpeg:https://cmicsinaloasur.org/wp-content/uploads/20
 24/08/REVIT-Architectural-I.jpg
CATEGORIES:Capacitación,En Linea
END:VEVENT
END:VCALENDAR