BEGIN:VCALENDAR
VERSION:2.0
PRODID:-//wp-events-plugin.com//7.2.3.1//EN
BEGIN:VEVENT
UID:30@cmicsinaloasur.org
DTSTART:20230522T140000Z
DTEND:20230522T190000Z
DTSTAMP:20230424T223042Z
URL:https://cmicsinaloasur.org/events/revit-architectual-nivel-ii/
SUMMARY:Revit Architectual Nivel II
DESCRIPTION:
ATTACH;FMTTYPE=image/jpeg:https://cmicsinaloasur.org/wp-content/uploads/20
 23/04/Revit-Architectual-Nivel-II.jpg
CATEGORIES:Capacitación
END:VEVENT
END:VCALENDAR