BEGIN:VCALENDAR
VERSION:2.0
PRODID:-//wp-events-plugin.com//7.2.3.1//EN
BEGIN:VEVENT
UID:315@cmicsinaloasur.org
DTSTART:20250825T140000Z
DTEND:20250825T190000Z
DTSTAMP:20250805T180358Z
URL:https://cmicsinaloasur.org/events/revit-3/
SUMMARY:REVIT
DESCRIPTION:
ATTACH;FMTTYPE=image/jpeg:https://cmicsinaloasur.org/wp-content/uploads/20
 25/08/revit.jpeg
CATEGORIES:Capacitación,En Linea
END:VEVENT
END:VCALENDAR