BEGIN:VCALENDAR
VERSION:2.0
PRODID:-//wp-events-plugin.com//7.2.3.1//EN
BEGIN:VEVENT
UID:188@cmicsinaloasur.org
DTSTART:20241028T080000Z
DTEND:20241028T120000Z
DTSTAMP:20241023T224252Z
URL:https://cmicsinaloasur.org/events/residencia-y-supervision-de-obra-4/
SUMMARY:Residencia y Supervisión de Obra
DESCRIPTION:
ATTACH;FMTTYPE=image/jpeg:https://cmicsinaloasur.org/wp-content/uploads/20
 24/10/Residencia-y-Supervision-de-Obra.jpg
CATEGORIES:Capacitación,Presencial
LOCATION:CMIC SINALOA SUR\, Blvrd del Marlin #482\, Sábalo Country\, Mazat
 lán \, Sinaloa\, 82199\, México
X-APPLE-STRUCTURED-LOCATION;VALUE=URI;X-ADDRESS=Blvrd del Marlin #482\, Sá
 balo Country\, Mazatlán \, Sinaloa\, 82199\, México;X-APPLE-RADIUS=100;X
 -TITLE=CMIC SINALOA SUR:geo:0,0
END:VEVENT
END:VCALENDAR