BEGIN:VCALENDAR
VERSION:2.0
PRODID:-//wp-events-plugin.com//7.2.3.1//EN
BEGIN:VEVENT
UID:198@cmicsinaloasur.org
DTSTART:20241219T090000Z
DTEND:20241219T100000Z
DTSTAMP:20241218T173744Z
URL:https://cmicsinaloasur.org/events/registro-de-prestadores-de-servicios
 -especializados-u-obras-especializadas-repse/
SUMMARY:Registro de prestadores de servicios especializados u obras especia
 lizadas (REPSE)
DESCRIPTION:ICIC Tlaxcala Sala 6 le está invitando a una reunión de Zoom 
 programada.\n\nTema: Platica de Registro de Prestadores de Servicios Espec
 ializados (REPSE) (TLAX)\n\nHora: 19 dic 2024 10:00 a. m. Ciudad de Méxi
 co\n\nID de reunión: 831 3607 5448\n\nCódigo de acceso: 302054\n\nBusque
  su número local: https://us06web.zoom.us/u/keAoZE38R
ATTACH;FMTTYPE=image/jpeg:https://cmicsinaloasur.org/wp-content/uploads/20
 24/12/registro.jpg
CATEGORIES:Capacitación,En Linea
LOCATION:\, \, 
X-APPLE-STRUCTURED-LOCATION;VALUE=URI;X-ADDRESS=\, ;X-APPLE-RADIUS=100;X-TI
 TLE=:geo:0,0
END:VEVENT
END:VCALENDAR