BEGIN:VCALENDAR
VERSION:2.0
PRODID:-//wp-events-plugin.com//7.2.3.1//EN
BEGIN:VEVENT
UID:133@cmicsinaloasur.org
DTSTART:20240826T080000Z
DTEND:20240826T120000Z
DTSTAMP:20240821T194929Z
URL:https://cmicsinaloasur.org/events/precios-unitarios-con-neodata-avanza
 do/
SUMMARY:PRECIOS UNITARIOS CON NEODATA AVANZADO
DESCRIPTION:
ATTACH;FMTTYPE=image/jpeg:https://cmicsinaloasur.org/wp-content/uploads/20
 24/08/PRECIOS-UNITARIOS-CON-NEODATA-AVANZADO.jpg
CATEGORIES:Capacitación,En Linea
END:VEVENT
END:VCALENDAR