BEGIN:VCALENDAR
VERSION:2.0
PRODID:-//wp-events-plugin.com//7.2.3.1//EN
BEGIN:VEVENT
UID:158@cmicsinaloasur.org
DTSTART:20240930T080000Z
DTEND:20240930T120000Z
DTSTAMP:20240911T233251Z
URL:https://cmicsinaloasur.org/events/power-bi/
SUMMARY:Power Bi
DESCRIPTION:
ATTACH;FMTTYPE=image/jpeg:https://cmicsinaloasur.org/wp-content/uploads/20
 24/09/Power-Bi.jpg
CATEGORIES:Capacitación,En Linea
END:VEVENT
END:VCALENDAR