BEGIN:VCALENDAR
VERSION:2.0
PRODID:-//wp-events-plugin.com//7.2.3.1//EN
BEGIN:VEVENT
UID:239@cmicsinaloasur.org
DTSTART:20250331T080000Z
DTEND:20250331T120000Z
DTSTAMP:20250320T232246Z
URL:https://cmicsinaloasur.org/events/power-bi-2/
SUMMARY:POWER BI
DESCRIPTION:
ATTACH;FMTTYPE=image/jpeg:https://cmicsinaloasur.org/wp-content/uploads/20
 25/03/POWER-BI.jpeg
CATEGORIES:Capacitación,En Linea
END:VEVENT
END:VCALENDAR