BEGIN:VCALENDAR
VERSION:2.0
PRODID:-//wp-events-plugin.com//7.2.3.1//EN
BEGIN:VEVENT
UID:25@cmicsinaloasur.org
DTSTART:20230427T160000Z
DTEND:20230427T170000Z
DTSTAMP:20230419T232454Z
URL:https://cmicsinaloasur.org/events/por-una-construccion-mas-sustentable
 /
SUMMARY:Por una construcción más sustentable
DESCRIPTION:
ATTACH;FMTTYPE=image/jpeg:https://cmicsinaloasur.org/wp-content/uploads/20
 23/04/construccion.jpg
CATEGORIES:Capacitación
END:VEVENT
END:VCALENDAR