BEGIN:VCALENDAR
VERSION:2.0
PRODID:-//wp-events-plugin.com//7.2.3.1//EN
BEGIN:VEVENT
UID:166@cmicsinaloasur.org
DTSTART:20241028T150000Z
DTEND:20241028T190000Z
DTSTAMP:20241004T170336Z
URL:https://cmicsinaloasur.org/events/planeacion-y-control-de-proyectos-de
 -construccion-con-microsoft-project/
SUMMARY:Planeación y Control de Proyectos de Construcción con Microsoft P
 ROJECT
DESCRIPTION:
ATTACH;FMTTYPE=image/jpeg:https://cmicsinaloasur.org/wp-content/uploads/20
 24/10/PROJECT.jpg
CATEGORIES:Capacitación,En Linea
END:VEVENT
END:VCALENDAR