BEGIN:VCALENDAR
VERSION:2.0
PRODID:-//wp-events-plugin.com//7.2.3.1//EN
BEGIN:VEVENT
UID:236@cmicsinaloasur.org
DTSTART:20250318T140000Z
DTEND:20250318T190000Z
DTSTAMP:20250320T231928Z
URL:https://cmicsinaloasur.org/events/planeacion-y-control-de-obra-9/
SUMMARY:PLANEACIÓN Y CONTROL DE OBRA
DESCRIPTION:
ATTACH;FMTTYPE=image/jpeg:https://cmicsinaloasur.org/wp-content/uploads/20
 25/03/pco.jpeg
CATEGORIES:Capacitación,En Linea
END:VEVENT
END:VCALENDAR