BEGIN:VCALENDAR
VERSION:2.0
PRODID:-//wp-events-plugin.com//7.2.3.1//EN
BEGIN:VEVENT
UID:164@cmicsinaloasur.org
DTSTART:20241108T150000Z
DTEND:20241108T190000Z
DTSTAMP:20241004T170016Z
URL:https://cmicsinaloasur.org/events/planeacion-y-control-de-obra-6/
SUMMARY:Planeación y Control de Obra
DESCRIPTION:
ATTACH;FMTTYPE=image/jpeg:https://cmicsinaloasur.org/wp-content/uploads/20
 24/10/Planeacion-y-Control-de-Obra.jpg
CATEGORIES:Capacitación,En Linea
END:VEVENT
END:VCALENDAR