BEGIN:VCALENDAR
VERSION:2.0
PRODID:-//wp-events-plugin.com//7.2.3.1//EN
BEGIN:VEVENT
UID:135@cmicsinaloasur.org
DTSTART:20240902T150000Z
DTEND:20240902T190000Z
DTSTAMP:20240821T195234Z
URL:https://cmicsinaloasur.org/events/planeacion-y-control-de-obra-4/
SUMMARY:PLANEACION Y CONTROL DE OBRA
DESCRIPTION:
ATTACH;FMTTYPE=image/jpeg:https://cmicsinaloasur.org/wp-content/uploads/20
 24/08/PLANEACION-Y-CONTROL-DE-OBRA.jpg
CATEGORIES:Capacitación,En Linea
END:VEVENT
END:VCALENDAR