BEGIN:VCALENDAR
VERSION:2.0
PRODID:-//wp-events-plugin.com//7.2.3.1//EN
BEGIN:VEVENT
UID:149@cmicsinaloasur.org
DTSTART:20240909T150000Z
DTEND:20240909T190000Z
DTSTAMP:20240906T202043Z
URL:https://cmicsinaloasur.org/events/planeacion-de-proyectos-con-project/
SUMMARY:Planeación de Proyectos con PROJECT
DESCRIPTION:
ATTACH;FMTTYPE=image/jpeg:https://cmicsinaloasur.org/wp-content/uploads/20
 24/09/project.jpg
CATEGORIES:Capacitación,En Linea
END:VEVENT
END:VCALENDAR