BEGIN:VCALENDAR
VERSION:2.0
PRODID:-//wp-events-plugin.com//7.2.3.1//EN
BEGIN:VEVENT
UID:147@cmicsinaloasur.org
DTSTART:20240923T150000Z
DTEND:20240923T190000Z
DTSTAMP:20240906T201726Z
URL:https://cmicsinaloasur.org/events/pavimentos/
SUMMARY:Pavimentos
DESCRIPTION:
ATTACH;FMTTYPE=image/jpeg:https://cmicsinaloasur.org/wp-content/uploads/20
 24/09/Pavimentos.jpg
CATEGORIES:Capacitación,En Linea
END:VEVENT
END:VCALENDAR