BEGIN:VCALENDAR
VERSION:2.0
PRODID:-//wp-events-plugin.com//7.2.3.1//EN
BEGIN:VEVENT
UID:196@cmicsinaloasur.org
DTSTART:20250110T170000Z
DTEND:20250110T190000Z
DTSTAMP:20241218T173231Z
URL:https://cmicsinaloasur.org/events/opus-2024/
SUMMARY:OPUS 2024
DESCRIPTION:
ATTACH;FMTTYPE=image/jpeg:https://cmicsinaloasur.org/wp-content/uploads/20
 24/12/OPUS.jpg
CATEGORIES:Capacitación,En Linea
END:VEVENT
END:VCALENDAR