BEGIN:VCALENDAR
VERSION:2.0
PRODID:-//wp-events-plugin.com//7.2.3.1//EN
BEGIN:VEVENT
UID:153@cmicsinaloasur.org
DTSTART:20240930T150000Z
DTEND:20240930T190000Z
DTSTAMP:20240911T232705Z
URL:https://cmicsinaloasur.org/events/opus-2024-m1/
SUMMARY:OPUS 2024 M1
DESCRIPTION:
ATTACH;FMTTYPE=image/jpeg:https://cmicsinaloasur.org/wp-content/uploads/20
 24/09/OPUS-2024-M1.jpg
CATEGORIES:Capacitación,En Linea
END:VEVENT
END:VCALENDAR