BEGIN:VCALENDAR
VERSION:2.0
PRODID:-//wp-events-plugin.com//7.2.3.1//EN
BEGIN:VEVENT
UID:293@cmicsinaloasur.org
DTSTART:20250707T150000Z
DTEND:20250707T190000Z
DTSTAMP:20250612T232401Z
URL:https://cmicsinaloasur.org/events/opus-2024-m1-3/
SUMMARY:OPUS 2024 M1
DESCRIPTION:
ATTACH;FMTTYPE=image/jpeg:https://cmicsinaloasur.org/wp-content/uploads/20
 25/06/OPUS2024.jpeg
CATEGORIES:Capacitación,En Linea
END:VEVENT
END:VCALENDAR