BEGIN:VCALENDAR
VERSION:2.0
PRODID:-//wp-events-plugin.com//7.2.3.1//EN
BEGIN:VEVENT
UID:238@cmicsinaloasur.org
DTSTART:20250410T150000Z
DTEND:20250410T190000Z
DTSTAMP:20250320T232150Z
URL:https://cmicsinaloasur.org/events/opus-2024-m1-2/
SUMMARY:OPUS 2024 M1
DESCRIPTION:
ATTACH;FMTTYPE=image/jpeg:https://cmicsinaloasur.org/wp-content/uploads/20
 25/03/OPUS-2024-M1.jpeg
CATEGORIES:Capacitación,En Linea
END:VEVENT
END:VCALENDAR