BEGIN:VCALENDAR
VERSION:2.0
PRODID:-//wp-events-plugin.com//7.2.3.1//EN
BEGIN:VEVENT
UID:229@cmicsinaloasur.org
DTSTART:20250307T150000Z
DTEND:20250307T190000Z
DTSTAMP:20250226T181712Z
URL:https://cmicsinaloasur.org/events/opus-2024-2/
SUMMARY:OPUS 2024
DESCRIPTION:
ATTACH;FMTTYPE=image/jpeg:https://cmicsinaloasur.org/wp-content/uploads/20
 25/02/opus.jpg
CATEGORIES:Capacitación,En Linea
END:VEVENT
END:VCALENDAR