BEGIN:VCALENDAR
VERSION:2.0
PRODID:-//wp-events-plugin.com//7.2.3.1//EN
BEGIN:VEVENT
UID:195@cmicsinaloasur.org
DTSTART:20250109T150000Z
DTEND:20250109T190000Z
DTSTAMP:20241218T172938Z
URL:https://cmicsinaloasur.org/events/neodata-basico-7/
SUMMARY:NEODATA Básico
DESCRIPTION:
ATTACH;FMTTYPE=image/jpeg:https://cmicsinaloasur.org/wp-content/uploads/20
 24/12/NEODATA.jpg
CATEGORIES:Capacitación,En Linea
END:VEVENT
END:VCALENDAR