BEGIN:VCALENDAR
VERSION:2.0
PRODID:-//wp-events-plugin.com//7.2.3.1//EN
BEGIN:VEVENT
UID:144@cmicsinaloasur.org
DTSTART:20241004T150000Z
DTEND:20241004T190000Z
DTSTAMP:20240906T201212Z
URL:https://cmicsinaloasur.org/events/neodata-basico-4/
SUMMARY:NEODATA Básico
DESCRIPTION:
ATTACH;FMTTYPE=image/jpeg:https://cmicsinaloasur.org/wp-content/uploads/20
 24/09/neodata.jpg
CATEGORIES:Capacitación,En Linea
END:VEVENT
END:VCALENDAR