BEGIN:VCALENDAR
VERSION:2.0
PRODID:-//wp-events-plugin.com//7.2.3.1//EN
BEGIN:VEVENT
UID:281@cmicsinaloasur.org
DTSTART:20250609T080000Z
DTEND:20250609T120000Z
DTSTAMP:20250520T185526Z
URL:https://cmicsinaloasur.org/events/neodata-basico-13/
SUMMARY:NEODATA BASICO
DESCRIPTION:
ATTACH;FMTTYPE=image/jpeg:https://cmicsinaloasur.org/wp-content/uploads/20
 25/05/NEODATA-BASICA-1.jpeg
CATEGORIES:Capacitación,En Linea
END:VEVENT
END:VCALENDAR