BEGIN:VCALENDAR
VERSION:2.0
PRODID:-//wp-events-plugin.com//7.2.3.1//EN
BEGIN:VEVENT
UID:28@cmicsinaloasur.org
DTSTART:20230503T080000Z
DTEND:20230503T110000Z
DTSTAMP:20230424T222734Z
URL:https://cmicsinaloasur.org/events/mano-de-obra-especializada/
SUMMARY:Mano de Obra Especializada
DESCRIPTION:
ATTACH;FMTTYPE=image/jpeg:https://cmicsinaloasur.org/wp-content/uploads/20
 23/04/Mano-de-Obra.jpg
CATEGORIES:Capacitación
END:VEVENT
END:VCALENDAR