BEGIN:VCALENDAR
VERSION:2.0
PRODID:-//wp-events-plugin.com//7.2.3.1//EN
BEGIN:VEVENT
UID:313@cmicsinaloasur.org
DTSTART:20250806T070000Z
DTEND:20250806T100000Z
DTSTAMP:20250805T180136Z
URL:https://cmicsinaloasur.org/events/mano-de-obra-especializada-4/
SUMMARY:MANO DE OBRA ESPECIALIZADA
DESCRIPTION:
ATTACH;FMTTYPE=image/jpeg:https://cmicsinaloasur.org/wp-content/uploads/20
 25/08/manoobra.jpeg
CATEGORIES:Capacitación,En Linea
END:VEVENT
END:VCALENDAR