BEGIN:VCALENDAR
VERSION:2.0
PRODID:-//wp-events-plugin.com//7.2.3.1//EN
BEGIN:VEVENT
UID:159@cmicsinaloasur.org
DTSTART:20240924T080000Z
DTEND:20240924T130000Z
DTSTAMP:20240911T233349Z
URL:https://cmicsinaloasur.org/events/manejo-de-estres/
SUMMARY:Manejo de Estrés
DESCRIPTION:
ATTACH;FMTTYPE=image/jpeg:https://cmicsinaloasur.org/wp-content/uploads/20
 24/09/Manejo-de-Estres.jpg
CATEGORIES:Capacitación,En Linea
END:VEVENT
END:VCALENDAR