BEGIN:VCALENDAR
VERSION:2.0
PRODID:-//wp-events-plugin.com//7.2.3.1//EN
BEGIN:VEVENT
UID:320@cmicsinaloasur.org
DTSTART;VALUE=DATE:20250912
DTEND;VALUE=DATE:20250913
DTSTAMP:20250805T180911Z
URL:https://cmicsinaloasur.org/events/maestrias-itc-2025-2/
SUMMARY:MAESTRIAS ITC 2025
DESCRIPTION:
ATTACH;FMTTYPE=image/jpeg:https://cmicsinaloasur.org/wp-content/uploads/20
 25/08/maestrias.jpeg
CATEGORIES:Capacitación
END:VEVENT
END:VCALENDAR