BEGIN:VCALENDAR
VERSION:2.0
PRODID:-//wp-events-plugin.com//7.2.3.1//EN
BEGIN:VEVENT
UID:116@cmicsinaloasur.org
DTSTART;VALUE=DATE:20240927
DTEND;VALUE=DATE:20240928
DTSTAMP:20240716T233956Z
URL:https://cmicsinaloasur.org/events/maestrias-2024-2/
SUMMARY:MAESTRÍAS 2024
DESCRIPTION:
ATTACH;FMTTYPE=image/jpeg:https://cmicsinaloasur.org/wp-content/uploads/20
 24/07/maestrias2024.jpg
CATEGORIES:Capacitación,Presencial
LOCATION:CMIC SINALOA SUR\, Blvrd del Marlin #482\, Sábalo Country\, Mazat
 lán \, Sinaloa\, 82199\, México
X-APPLE-STRUCTURED-LOCATION;VALUE=URI;X-ADDRESS=Blvrd del Marlin #482\, Sá
 balo Country\, Mazatlán \, Sinaloa\, 82199\, México;X-APPLE-RADIUS=100;X
 -TITLE=CMIC SINALOA SUR:geo:0,0
END:VEVENT
END:VCALENDAR