BEGIN:VCALENDAR
VERSION:2.0
PRODID:-//wp-events-plugin.com//7.2.3.1//EN
BEGIN:VEVENT
UID:103@cmicsinaloasur.org
DTSTART:20240625T150000Z
DTEND:20240625T190000Z
DTSTAMP:20240522T170740Z
URL:https://cmicsinaloasur.org/events/ley-de-obrras-publicas-y-servicios-r
 elacionados-con-la-misma/
SUMMARY:LEY DE OBRRAS PUBLICAS Y SERVICIOS RELACIONADOS CON LA MISMA
DESCRIPTION:
ATTACH;FMTTYPE=image/jpeg:https://cmicsinaloasur.org/wp-content/uploads/20
 24/05/LEY-DE-OBRRAS-PUBLICAS-Y-SERVICIOS-RELACIONADOS-CON-LA-MISMA.jpg
CATEGORIES:Capacitación
END:VEVENT
END:VCALENDAR