BEGIN:VCALENDAR
VERSION:2.0
PRODID:-//wp-events-plugin.com//7.2.3.1//EN
BEGIN:VEVENT
UID:100@cmicsinaloasur.org
DTSTART:20240604T140000Z
DTEND:20240604T190000Z
DTSTAMP:20240522T170038Z
URL:https://cmicsinaloasur.org/events/ley-de-adquisiciones-arrendamientos-
 y-servicios-del-centro-publico/
SUMMARY:LEY DE ADQUISICIONES\, ARRENDAMIENTOS Y SERVICIOS DEL CENTRO PÚBLI
 CO
DESCRIPTION:
ATTACH;FMTTYPE=image/jpeg:https://cmicsinaloasur.org/wp-content/uploads/20
 24/05/LEY-DE-ADQUISICIONES-ARRENDAMIENTOS-Y-SERVICIOS-DEL-CENTRO-PUBLICO.j
 pg
CATEGORIES:Capacitación
END:VEVENT
END:VCALENDAR