BEGIN:VCALENDAR
VERSION:2.0
PRODID:-//wp-events-plugin.com//7.2.3.1//EN
BEGIN:VEVENT
UID:108@cmicsinaloasur.org
DTSTART:20240716T140000Z
DTEND:20240716T160000Z
DTSTAMP:20240522T171825Z
URL:https://cmicsinaloasur.org/events/last-plannet-system/
SUMMARY:LAST PLANNET SYSTEM
DESCRIPTION:
ATTACH;FMTTYPE=image/jpeg:https://cmicsinaloasur.org/wp-content/uploads/20
 24/05/LAST-PLANNET-SYSTEM.jpg
CATEGORIES:Capacitación
END:VEVENT
END:VCALENDAR