BEGIN:VCALENDAR
VERSION:2.0
PRODID:-//wp-events-plugin.com//7.2.3.1//EN
BEGIN:VEVENT
UID:178@cmicsinaloasur.org
DTSTART:20241121T140000Z
DTEND:20241121T180000Z
DTSTAMP:20241023T222304Z
URL:https://cmicsinaloasur.org/events/inteligencia-emocional/
SUMMARY:Inteligencia Emocional
DESCRIPTION:
ATTACH;FMTTYPE=image/jpeg:https://cmicsinaloasur.org/wp-content/uploads/20
 24/10/IA.jpg
CATEGORIES:Capacitación,En Linea
END:VEVENT
END:VCALENDAR