BEGIN:VCALENDAR
VERSION:2.0
PRODID:-//wp-events-plugin.com//7.2.3.1//EN
BEGIN:VEVENT
UID:314@cmicsinaloasur.org
DTSTART:20250811T080000Z
DTEND:20250811T110000Z
DTSTAMP:20250805T180253Z
URL:https://cmicsinaloasur.org/events/inteligencia-artificial-para-adminis
 tracion-de-empresas/
SUMMARY:INTELIGENCIA ARTIFICIAL PARA ADMINISTRACIÓN DE EMPRESAS
DESCRIPTION:
ATTACH;FMTTYPE=image/jpeg:https://cmicsinaloasur.org/wp-content/uploads/20
 25/08/intl.jpeg
CATEGORIES:Capacitación,En Linea
END:VEVENT
END:VCALENDAR