BEGIN:VCALENDAR
VERSION:2.0
PRODID:-//wp-events-plugin.com//7.2.3.1//EN
BEGIN:VEVENT
UID:276@cmicsinaloasur.org
DTSTART:20250523T150000Z
DTEND:20250523T190000Z
DTSTAMP:20250501T235834Z
URL:https://cmicsinaloasur.org/events/habilidades-gerenciales-9/
SUMMARY:HABILIDADES GERENCIALES
DESCRIPTION:
ATTACH;FMTTYPE=image/jpeg:https://cmicsinaloasur.org/wp-content/uploads/20
 25/05/HABILIDADES-GERENCIALES.jpeg
CATEGORIES:Capacitación,En Linea
END:VEVENT
END:VCALENDAR