BEGIN:VCALENDAR
VERSION:2.0
PRODID:-//wp-events-plugin.com//7.2.3.1//EN
BEGIN:VEVENT
UID:277@cmicsinaloasur.org
DTSTART:20250519T150000Z
DTEND:20250519T190000Z
DTSTAMP:20250502T000003Z
URL:https://cmicsinaloasur.org/events/excel-basico-intermedio-7/
SUMMARY:EXCEL BASICO INTERMEDIO
DESCRIPTION:
ATTACH;FMTTYPE=image/jpeg:https://cmicsinaloasur.org/wp-content/uploads/20
 25/05/EXCEL-BASICO-INTERMEDIO.jpeg
CATEGORIES:Capacitación,En Linea
END:VEVENT
END:VCALENDAR