BEGIN:VCALENDAR
VERSION:2.0
PRODID:-//wp-events-plugin.com//7.2.3.1//EN
BEGIN:VEVENT
UID:279@cmicsinaloasur.org
DTSTART:20250505T150000Z
DTEND:20250505T190000Z
DTSTAMP:20250502T000152Z
URL:https://cmicsinaloasur.org/events/excel-avanzado/
SUMMARY:EXCEL AVANZADO
DESCRIPTION:
ATTACH;FMTTYPE=image/jpeg:https://cmicsinaloasur.org/wp-content/uploads/20
 25/05/EXCEL-AVANZADO.jpeg
CATEGORIES:Capacitación,En Linea
END:VEVENT
END:VCALENDAR